BEGIN:VCALENDAR
VERSION:2.0
PRODID:-//Instituto de investigación - ECPv6.15.20//NONSGML v1.0//EN
CALSCALE:GREGORIAN
METHOD:PUBLISH
X-WR-CALNAME:Instituto de investigación
X-ORIGINAL-URL:https://investigacion.unvm.edu.ar
X-WR-CALDESC:Eventos para Instituto de investigación
REFRESH-INTERVAL;VALUE=DURATION:PT1H
X-Robots-Tag:noindex
X-PUBLISHED-TTL:PT1H
BEGIN:VTIMEZONE
TZID:America/Argentina/Cordoba
BEGIN:STANDARD
TZOFFSETFROM:-0300
TZOFFSETTO:-0300
TZNAME:-03
DTSTART:20230101T000000
END:STANDARD
END:VTIMEZONE
BEGIN:VEVENT
DTSTART;TZID=America/Argentina/Cordoba:20240919T100000
DTEND;TZID=America/Argentina/Cordoba:20240919T133000
DTSTAMP:20260424T115510
CREATED:20240913T170211Z
LAST-MODIFIED:20240913T170230Z
UID:15019-1726740000-1726752600@investigacion.unvm.edu.ar
SUMMARY:Jornada "Ciencia y Juventud – Comunicamos Ciencia en 5 Minutos"
DESCRIPTION:El próximo 19 de septiembre\, el Aula de Posgrado del Campus de la Universidad Nacional de Villa María será el escenario de la segunda jornada del evento «Ciencia y Juventud: Comunicamos Ciencia en 5 minutos». \nA partir de las 10:00 horas\, equipos de investigación de la Universidad Nacional de Villa María\, la Universidad Tecnológica Nacional – Facultad Regional Villa María y la Facultad Regional San Francisco presentarán los avances científicos y tecnológicos de los equipos de investigación integrantes del programa de financiamiento “Jóvenes en Ciencia”. \nDurante tres horas se llevarán a cabo cuatro sesiones temáticas en las que se abordarán investigaciones en áreas clave para la provincia.
URL:https://investigacion.unvm.edu.ar/evento/jornada-ciencia-y-juventud-comunicamos-ciencia-en-5-minutos
LOCATION:Campus UNVM
CATEGORIES:Investigación UNVM,Jóvenes en Ciencia,UNVM
ATTACH;FMTTYPE=image/jpeg:https://investigacion.unvm.edu.ar/wp-content/uploads/2024/09/WhatsApp-Image-2024-09-13-at-09.09.54.jpeg
END:VEVENT
END:VCALENDAR