BEGIN:VCALENDAR
VERSION:2.0
PRODID:-//Instituto de investigación - ECPv6.15.20//NONSGML v1.0//EN
CALSCALE:GREGORIAN
METHOD:PUBLISH
X-WR-CALNAME:Instituto de investigación
X-ORIGINAL-URL:https://investigacion.unvm.edu.ar
X-WR-CALDESC:Eventos para Instituto de investigación
REFRESH-INTERVAL;VALUE=DURATION:PT1H
X-Robots-Tag:noindex
X-PUBLISHED-TTL:PT1H
BEGIN:VTIMEZONE
TZID:America/Argentina/Cordoba
BEGIN:STANDARD
TZOFFSETFROM:-0300
TZOFFSETTO:-0300
TZNAME:-03
DTSTART:20230101T000000
END:STANDARD
END:VTIMEZONE
BEGIN:VEVENT
DTSTART;TZID=America/Argentina/Cordoba:20240822T140000
DTEND;TZID=America/Argentina/Cordoba:20240822T140000
DTSTAMP:20260424T131644
CREATED:20240802T170636Z
LAST-MODIFIED:20240802T170805Z
UID:14996-1724335200-1724335200@investigacion.unvm.edu.ar
SUMMARY:Ciclo de Encuentros Investigación : Jornadas PICTOS ASOCIATIVO 2022
DESCRIPTION:En el marco del «Ciclo de Encuentro sobre Investigaciones en Proceso»\, como política de I+D del Instituto de Investigación\, los/las invitamos a participar de la Jornada de presentación e intercambio de los PICTOS ASOCIATIVOS 2022. \nJueves 22 de Agosto\, 14hs\nSala Consejo Directivo de Humanas (campus UNVM) \nDinámica de presentaciones: \n• Plantilla con 5 ejes propuestos para descargar y completar según cada proyecto. Link: https://docs.google.com/presentation/d/1Mnbxi4x5sX30bsOZetJmb-dIKgWV2R5j23LINjvuN3M/edit  ( * sugerencia: compartir por correo a @investigación\, el documento hasta el 16 de agosto\, para devoluciones)\n• Duración de las presentaciones\, hasta 10 minutos por proyecto. \n 
URL:https://investigacion.unvm.edu.ar/evento/ciclo-de-encuentros-investigacion-jornadas-pictos-asociativo-2022
LOCATION:Campus UNVM
CATEGORIES:Agencia I+D+i,Instituto de Investigación,Picto
ATTACH;FMTTYPE=image/png:https://investigacion.unvm.edu.ar/wp-content/uploads/2024/08/banner-picto-.png
END:VEVENT
END:VCALENDAR