BEGIN:VCALENDAR
VERSION:2.0
PRODID:-//Instituto de investigación - ECPv6.15.20//NONSGML v1.0//EN
CALSCALE:GREGORIAN
METHOD:PUBLISH
X-ORIGINAL-URL:https://investigacion.unvm.edu.ar
X-WR-CALDESC:Eventos para Instituto de investigación
REFRESH-INTERVAL;VALUE=DURATION:PT1H
X-Robots-Tag:noindex
X-PUBLISHED-TTL:PT1H
BEGIN:VTIMEZONE
TZID:America/Argentina/Cordoba
BEGIN:STANDARD
TZOFFSETFROM:-0300
TZOFFSETTO:-0300
TZNAME:-03
DTSTART:20240101T000000
END:STANDARD
END:VTIMEZONE
BEGIN:VEVENT
DTSTART;TZID=America/Argentina/Cordoba:20250701T000000
DTEND;TZID=America/Argentina/Cordoba:20251201T000000
DTSTAMP:20260423T200932
CREATED:20250801T143947Z
LAST-MODIFIED:20250801T145631Z
UID:15335-1751328000-1764547200@investigacion.unvm.edu.ar
SUMMARY:Convocatoria a Ideas Proyectos PEIDI UNVM
DESCRIPTION:La convocatoria está orientada a fortalecer la vinculación entre la producción de conocimiento y las demandas o problemáticas de sector social y productivo regional.   \nEl Instituto de Investigación junto a su Consejo Asesor integrado por los 3 Institutos Académicos Pedagógicos y el Instituto de Extensión\, convocan a presentar Ideas Proyectos Especiales de Investigación\, Desarrollo e Innovación (PEIDi UNVM). \nLa presente convocatoria\, de carácter permanente\, se enmarca en dos pilares fundamentales: por un lado\, en el Plan de Mejoramiento de la función de I+D+i elaborado por nuestra Universidad y presentado para su evaluación en diciembre de 2023 al Programa de Evaluación Institucional (PEI) de la Secretaría de Ciencia y Tecnología de la Nación. Por otro lado\, se integra con la convocatoria 2024 a los Proyectos de Investigación\, Desarrollo e Innovación (PEIDi) cuyos proyectos aprobados y financiados se encuentran en proceso ejecución y seguimiento. \nEstá destinado a docentes investigadores/as de UNVM y becarios/as CONICET con lugar de trabajo en la UNVM. \nEl equipo podrá estar conformado por docentes investigadores de diversas áreas disciplinares de la UNVM\, extensionistas\, becarios\, estudiantes\, graduados y actores vinculantes de sectores sociales y productivos. \nBASES Y CONDICIONES .docx \nANEXO PLAN DE TRABAJO \n\n\nPor consultas contactarse a: investigación@rec.unvm.aedu.ar // 0353 – 4648243.
URL:https://investigacion.unvm.edu.ar/evento/convocatoria-permanente-a-ideas-proyectos-peidi-unvm
LOCATION:Campus UNVM
CATEGORIES:Convocatoria I-PEDI 2025,UNVM
ATTACH;FMTTYPE=image/png:https://investigacion.unvm.edu.ar/wp-content/uploads/2025/07/flyer-.png
END:VEVENT
BEGIN:VEVENT
DTSTART;TZID=America/Argentina/Cordoba:20250918T113000
DTEND;TZID=America/Argentina/Cordoba:20250918T120000
DTSTAMP:20260423T200932
CREATED:20250911T202823Z
LAST-MODIFIED:20250915T115956Z
UID:15500-1758195000-1758196800@investigacion.unvm.edu.ar
SUMMARY:La UNVM presenta el Convenio de Trabajo I+D+i con la plataforma Trampoline
DESCRIPTION:La Universidad Nacional de Villa María\, a través del Instituto de Investigación\, invita a participar de la presentación del Convenio de Trabajo entre la UNVM y Trampoline Networking cuyo propósito es fortalecer la vinculación de la producción de conocimiento académico científico y tecnológico con sectores públicos/privados nacionales e internacionales. \nEl encuentro tendrá lugar el día Jueves 18 de septiembre a las 11:00hs\, bajo modalidad virtual\, a través del siguiente enlace Google Meet: https://meet.google.com/bsn-ngio-uiz. \nDurante la presentación\, se compartirán las actividades y acciones a realizar de manera conjunta para potenciar la investigación\, la innovación y el desarrollo de la UNVM\, en el marco del Plan de Evaluación y Mejoramiento Institucional de la función I+D+I que viene desarrollando la universidad. \n¿Qué  es Trampoline?: Una plataforma de vinculación universidad – empresa de origen argentino. Su propósito  es contribuir al desarrollo de los ecosistemas locales de investigación\, desarrollo e innovación en países emergentes y ampliar su conexión con los mercados regionales y globales. Trabaja tanto desde la oferta proveniente de los espacios académicos científicos como también desde la demanda de los sectores socio productivos y gubernamentales\, articulando las oportunidades con las necesidades empresariales\, universitarias y de los estados.
URL:https://investigacion.unvm.edu.ar/evento/la-unvm-presenta-el-convenio-de-trabajo-idi-con-la-plataforma-trampoline
LOCATION:Campus UNVM
CATEGORIES:Investigación UNVM,Trampoline Networking
ATTACH;FMTTYPE=image/jpeg:https://investigacion.unvm.edu.ar/wp-content/uploads/2025/09/Trampoline_Flyer.jpg
END:VEVENT
BEGIN:VEVENT
DTSTART;TZID=America/Argentina/Cordoba:20250925T000000
DTEND;TZID=America/Argentina/Cordoba:20250925T000000
DTSTAMP:20260423T200932
CREATED:20250825T122711Z
LAST-MODIFIED:20250825T122711Z
UID:15451-1758758400-1758758400@investigacion.unvm.edu.ar
SUMMARY:Convocatoria para publicar en la 4º Edición "Serie Documentos de Trabajo"
DESCRIPTION:En esta edición\, se invita a investigadores/as y becarios/as doctorales y posdoctorales que hayan realizado una estancia de investigación en el exterior a compartir sus experiencias. La fecha límite para la recepción es el lunes 25 de septiembre. \nLa Serie Documentos de Trabajo es una publicación interdisciplinar del Instituto de Investigación de la Universidad Nacional de Villa María. La misma se inscribe en el marco del Plan de Mejoramiento para la función de Investigación\, Desarrollo e Innovación (I+D+i) elaborado y propuesto por nuestra Universidad al Programa de Evaluación Institucional (PEI) de la Secretaría de Innovación\, Ciencia y Tecnología de la Nación. \nTiene como objetivo divulgar avances de investigaciones en proceso pertenecientes a diversas convocatorias y financiamientos de orden interno\, conjunto\, externo y/o internacional\, como así también contribuir a la formación de recursos humanos comprometidos con la función I+D+i. \nLa publicación se propone visibilizar las diferentes convocatorias que el Instituto de Investigación financia\, evalúa\, ejecuta y/o administra. Por este motivo\, las áreas temáticas que cubre la publicación son variadas y diversas\, buscando convertirse en un ámbito multidisciplinar y heterogéneo que refleje la riqueza y diversidad heurística de la UNVM. \n CUARTA EDICIÓN  \nEn esta oportunidad\, el Instituto invita a Docentes Investigadores/as y becarios/as doctorales y posdoctorales que hayan realizado una estancia\, intercambio o movilidad de investigación en el exterior\, cómo así también aquellas experiencias internacionales donde la UNVM haya sido unidad de origen\,  en el período desde el 2019 hasta la actualidad\, a compartir sus experiencia\, a través de la revista Serie Documentos de Trabajo\, a través de la revista Serie Documentos de Trabajo. \n FECHAS IMPORTANTES  \nFecha límite para la recepción de trabajos: 25 de septiembre de 2025 \nPublicación de la segunda edición: noviembre de 2025 \n PÁGINA WEB DE LA SERIE \nEn la página web de la Serie Documentos de Trabajo se encuentra disponible la PRIMERA y SEGUNDA EDICIÓN de la revista y toda la información sobre la tercera convocatoria que incluye Directrices para autores\, modalidad de evaluación\, fechas de convocatorias\, equipo editorial\, contacto de la revista y toda la información relacionada. \nseriedocumentos.unvm.edu.ar
URL:https://investigacion.unvm.edu.ar/evento/convocatoria-para-publicar-en-la-4o-edicion-serie-documentos-de-trabajo
LOCATION:Campus UNVM
CATEGORIES:Convocatoria,Investigación UNVM,Serie Documentos de Trabajo
ATTACH;FMTTYPE=image/jpeg:https://investigacion.unvm.edu.ar/wp-content/uploads/2025/08/Convocatoria-Serie-Doc-de-trabajos-2025-4_Web.jpg
END:VEVENT
BEGIN:VEVENT
DTSTART;TZID=America/Argentina/Cordoba:20250930T000000
DTEND;TZID=America/Argentina/Cordoba:20250930T000000
DTSTAMP:20260423T200932
CREATED:20250910T130136Z
LAST-MODIFIED:20250910T130242Z
UID:15492-1759190400-1759190400@investigacion.unvm.edu.ar
SUMMARY:Nuevo correo SIGEVA UNVM para consultas
DESCRIPTION:En el marco de la Convocatoria vigente a Proyectos de Investigación 2026/2027\, desde el Instituto habilitamos un correo electrónico para que puedan remitir todas las consultas relativas a la carga SIGEVA.\n\n\n\nCorreo electrónico: sigeva@unvm.edu.ar 
URL:https://investigacion.unvm.edu.ar/evento/nuevo-correo-sigeva-unvm-para-consultas
ATTACH;FMTTYPE=image/png:https://investigacion.unvm.edu.ar/wp-content/uploads/2025/09/2-1.png
END:VEVENT
BEGIN:VEVENT
DTSTART;TZID=America/Argentina/Cordoba:20250930T000000
DTEND;TZID=America/Argentina/Cordoba:20250930T000000
DTSTAMP:20260423T200932
CREATED:20250925T122230Z
LAST-MODIFIED:20250925T122230Z
UID:15549-1759190400-1759190400@investigacion.unvm.edu.ar
SUMMARY:Prórroga para publicar en la 4ª Edición de la Serie Documentos de Trabajo
DESCRIPTION:La fecha de cierre para la recepción de trabajos se extiende hasta el martes 30 de septiembre.\nEl Instituto de Investigación de la Universidad Nacional de Villa María comunica la extensión de la fecha para presentar trabajos en la Cuarta Edición de la Serie Documentos de Trabajo. Esta edición está dirigida a docentes investigadores/as y becarios/as doctorales/posdoctorales que hayan realizado una estancia\, intercambio o movilidad de investigación en el exterior\, cómo así también aquellas experiencias internacionales donde la UNVM haya sido unidad de origen\, en el período desde el 2019 hasta la actualidad\, a compartir sus experiencias. \nLa Serie Documentos de Trabajo es una publicación interdisciplinar del Instituto de Investigación de la Universidad Nacional de Villa María. La misma se inscribe en el marco del Plan de Mejoramiento para la función de Investigación\, Desarrollo e Innovación (I+D+i) elaborado y propuesto por nuestra Universidad al Programa de Evaluación Institucional (PEI) de la Secretaría de Innovación\, Ciencia y Tecnología de la Nación. \nLa revista propone visibilizar las diferentes convocatorias que el Instituto de Investigación financia\, evalúa\, ejecuta y/o administra. Por este motivo\, las áreas temáticas que cubre la publicación son variadas y diversas\, buscando convertirse en un ámbito multidisciplinar y heterogéneo que refleje la riqueza y diversidad heurística de la UNVM. \nFECHAS IMPORTANTES  \nFecha límite para la recepción de trabajos: 30 de septiembre de 2025. \nPublicación de la cuarta edición: noviembre del 2025. \nPÁGINA WEB DE LA SERIE \nEn la página web de la Serie Documentos de Trabajo se encuentra disponible toda la información sobre la misma que incluye Directrices para autores\, modalidad de evaluación\, fechas de convocatorias\, equipo editorial\, contacto de la revista y toda la información relacionada. \nseriedocumentos.unvm.edu.ar
URL:https://investigacion.unvm.edu.ar/evento/prorroga-para-publicar-en-la-4a-edicion-de-la-serie-documentos-de-trabajo
LOCATION:Campus UNVM
CATEGORIES:Convocatoria 2025,Instituto de Investigación,Serie Documentos de Trabajo
ATTACH;FMTTYPE=image/jpeg:https://investigacion.unvm.edu.ar/wp-content/uploads/2025/09/Convocatoria-Serie-Doc-de-trabajos-2025-4-prorroga_Web.jpg
END:VEVENT
BEGIN:VEVENT
DTSTART;TZID=America/Argentina/Cordoba:20251007T000000
DTEND;TZID=America/Argentina/Cordoba:20251007T000000
DTSTAMP:20260423T200932
CREATED:20250910T125154Z
LAST-MODIFIED:20250910T125815Z
UID:15483-1759795200-1759795200@investigacion.unvm.edu.ar
SUMMARY:Fondo para Reparación y Actualización de Equipamiento Científico 2025
DESCRIPTION:La Fundación Williams abre esta convocatoria con el objetivo de contribuir al avance de la investigación científica argentina a través de la reparación y la actualización del equipamiento utilizado en proyectos de investigación que estén trabajando actualmente sobre temas\, objetos\, problemas o fenómenos propios del territorio argentino\, en las siguientes áreas de conocimiento: Ciencias Agrarias\, de las Ingenierías y Materiales\, Ciencias Biológicas\, Ciencias Exactas y Naturales. \nSe podrán presentar solo solicitudes institucionales que apunten a realizar reparaciones y actualizaciones en equipamiento de uso compartido por varios grupos de investigación. Los destinatarios de estos subsidios son: institutos de investigación\, unidades ejecutoras\, y centros de investigación públicos o privados del sistema científico argentino. No serán admitidas solicitudes de investigadores a título individual. \nSe otorgarán subsidios de hasta $3.500.000. Los fondos deberán destinarse exclusivamente a cubrir gastos de mano de obra especializada\, compra de repuestos o accesorios\, renovación de licencias de software vinculadas al funcionamiento del equipo\, y actualización de componentes para optimizar el funcionamiento. \nLos fondos solicitados pueden estar destinados a cubrir: \n\nServicio técnico especializado.\nCompra de piezas\, repuestos\, componentes y accesorios.\nRenovación de licencias de software.\n\nCIENCIA_Bases Fondo para Reparación y Actualización de Equipamiento Científico 2025 \nCIERRE DE LA CONVOCATORIA: 7 de octubre \nInformación completa en: https://fundacionwilliams.org.ar/fondo-para-reparacion-y-actualizacion-de-equipamiento-cientifico-2025/
URL:https://investigacion.unvm.edu.ar/evento/fondo-para-reparacion-y-actualizacion-de-equipamiento-cientifico-2025
LOCATION:Campus UNVM
CATEGORIES:Convocatoria Fundacion Williams,Investigación
ATTACH;FMTTYPE=image/png:https://investigacion.unvm.edu.ar/wp-content/uploads/2025/09/FLYERS-5.png
END:VEVENT
BEGIN:VEVENT
DTSTART;TZID=America/Argentina/Cordoba:20251020T000000
DTEND;TZID=America/Argentina/Cordoba:20251020T000000
DTSTAMP:20260423T200932
CREATED:20250919T122907Z
LAST-MODIFIED:20250919T122907Z
UID:15524-1760918400-1760918400@investigacion.unvm.edu.ar
SUMMARY:Prórroga para la presentación a Proyectos de Investigación 2026/2027
DESCRIPTION:Se extiende la convocatoria hasta el 20 de octubre..  \nEl Instituto de Investigación informa la extensión de la Convocatoria 2026/2027 a Proyectos de Investigación. La misma se enmarca en el Plan de Mejoramiento de la función de Investigación\, Desarrollo e Innovación (I+D+i) de nuestra Universidad y tiene como objetivo impulsar la generación de conocimiento en el marco de proyectos de investigación UNVM\, asegurar la excelencia académica y promover el abordaje de problemáticas estratégicas y prioritarias a nivel institucional\, regional y nacional. De esta manera\, se propone fomentar la articulación entre la producción académica y el entorno social\, cultural y productivo\, afianzar equipos consolidados y acompañar procesos de formación de nuevos investigadores. \nLas propuestas que se presenten a esta convocatoria deberán encuadrarse en alguna de las 3 (tres) modalidades que se mencionan a continuación\, en función de su enfoque\, nivel de consolidación y forma organizativa: \nA. Proyectos Estratégicos de I+D+i (PEIDi): son propuestas enfocadas en el desarrollo e innovación de conocimientos y/o tecnologías orientadas a atender demandas relativas a problemáticas productivas\, sociales\, económicas\, ambientales y/o culturales emergentes de organismos públicos o privados. Estos proyectos se caracterizan por ser cofinanciados por la UNVM y las empresas\, instituciones u organismos que se postulen como contraparte. \nB. Proyectos de Investigación para Grupos Consolidados (PIC): dirigidos por docentes investigadores con trayectoria acreditada en investigación\, publicaciones y dirección de proyectos. Están orientados a fortalecer líneas de trabajo ya existentes y profundizar la calidad científica del equipo. \nC. Proyectos de Investigación para Grupos en Formación (GF): destinados a equipos integrados por docentes investigadores en proceso de consolidación\, con menor trayectoria. Su objetivo es estimular la formación de nuevas líneas de investigación y fortalecer capacidades institucionales a futuro. Se prioriza la participación de jóvenes investigadores\, egresados recientes y estudiantes. \nEl cierre de las presentaciones por SIGEVA será el 20 de OCTUBRE. \nConsular las Bases-de-la-Convocatoria-2026-2027
URL:https://investigacion.unvm.edu.ar/evento/prorroga-para-la-presentacion-a-proyectos-de-investigacion-2026-2027
LOCATION:Campus UNVM
CATEGORIES:Convocatoria a Proyectos 2026/2027,Investigación UNVM
ATTACH;FMTTYPE=image/jpeg:https://investigacion.unvm.edu.ar/wp-content/uploads/2025/09/flyer-para-web-1.jpg
END:VEVENT
BEGIN:VEVENT
DTSTART;TZID=America/Argentina/Cordoba:20260424T113000
DTEND;TZID=America/Argentina/Cordoba:20260424T113000
DTSTAMP:20260423T200932
CREATED:20260416T123444Z
LAST-MODIFIED:20260416T123444Z
UID:15576-1777030200-1777030200@investigacion.unvm.edu.ar
SUMMARY:El CCT CONICET Córdoba visita la UNVM
DESCRIPTION:En el marco de la visita de las autoridades\, se realizará un encuentro e intercambio con docentes investigadores/as\, becarios/as y comunidad UNVM. \nEl Dr Sergio Dassie y el Dr. Andrés Izeta\, Director y Vice Director del CONICET Córdoba respectivamente\, compartirán los objetivos y las lineas de acción de la actual gestión del organismo. \nLa actividad se realizará el día viernes 24 de abril a las 11:30hs\, en el aula de posgrado del campus UNVM.
URL:https://investigacion.unvm.edu.ar/evento/el-cct-conicet-cordoba-visita-la-unvm
LOCATION:Campus UNVM
CATEGORIES:CONICET Córdoba,UNVM
ATTACH;FMTTYPE=image/jpeg:https://investigacion.unvm.edu.ar/wp-content/uploads/2026/04/Autoridades_Web.jpg
END:VEVENT
END:VCALENDAR