BEGIN:VCALENDAR
VERSION:2.0
PRODID:-//Instituto de investigación - ECPv6.15.20//NONSGML v1.0//EN
CALSCALE:GREGORIAN
METHOD:PUBLISH
X-ORIGINAL-URL:https://investigacion.unvm.edu.ar
X-WR-CALDESC:Eventos para Instituto de investigación
REFRESH-INTERVAL;VALUE=DURATION:PT1H
X-Robots-Tag:noindex
X-PUBLISHED-TTL:PT1H
BEGIN:VTIMEZONE
TZID:America/Argentina/Cordoba
BEGIN:STANDARD
TZOFFSETFROM:-0300
TZOFFSETTO:-0300
TZNAME:-03
DTSTART:20220101T000000
END:STANDARD
END:VTIMEZONE
BEGIN:VEVENT
DTSTART;TZID=America/Argentina/Cordoba:20230614T020000
DTEND;TZID=America/Argentina/Cordoba:20230614T170000
DTSTAMP:20260425T170636
CREATED:20230612T165925Z
LAST-MODIFIED:20230612T170024Z
UID:14342-1686708000-1686762000@investigacion.unvm.edu.ar
SUMMARY:Jornadas Ciencia y Tecnología de los Alimentos en Villa María
DESCRIPTION:Encuentro organizado por el Ministerio de Ciencia y Tecnología – Gobierno de Córdoba\, en conjunto con la Facultad Regional Villa María – Universidad Tecnológica Nacional (UTN-FRVM)\, Escuela Superior Integral de Lechería (ESIL) y Universidad Nacional de Villa María.\n\nEl programa consta de las siguientes actividades:\n\n\n\nConferencias \n14 y 15 de junio\, de 9:00 a 13:00 hs – Lugar: Centro Cívico Villa María\n\n\n\nTalleres \nMiércoles 14 junio\, de 15:00 a 17:30 hs – Lugar: Salón Usos Múltiples de la UTN FRVM\n\n\n\nMesas\nJueves 15 junio\, de 14:00 a 17:30 hs. – Lugar: Escuela Superior Integral de Lechería\n\n\n\nInscripción previa en: https://www.eventbrite.com.ar/…/ministerio-de-ciencia-y…\n\n\n\nFecha: 14 y 15 de junio de 2023\n\n\n\nInformación en: cicytac.argentina@gmail.com
URL:https://investigacion.unvm.edu.ar/evento/jornadas-ciencia-y-tecnologia-de-los-alimentos-en-villa-maria
LOCATION:Campus UNVM
CATEGORIES:ESIL,Investigación,Jornadas Ciencia y Tecnología de los Alimentos,Mincyt Córdoba,UNVM,UTN FRVM
ATTACH;FMTTYPE=image/jpeg:https://investigacion.unvm.edu.ar/wp-content/uploads/2023/06/Jornadas-de-alimentos.jpg
END:VEVENT
END:VCALENDAR