BEGIN:VCALENDAR
VERSION:2.0
PRODID:-//Instituto de investigación - ECPv6.15.20//NONSGML v1.0//EN
CALSCALE:GREGORIAN
METHOD:PUBLISH
X-WR-CALNAME:Instituto de investigación
X-ORIGINAL-URL:https://investigacion.unvm.edu.ar
X-WR-CALDESC:Eventos para Instituto de investigación
REFRESH-INTERVAL;VALUE=DURATION:PT1H
X-Robots-Tag:noindex
X-PUBLISHED-TTL:PT1H
BEGIN:VTIMEZONE
TZID:America/Argentina/Cordoba
BEGIN:STANDARD
TZOFFSETFROM:-0300
TZOFFSETTO:-0300
TZNAME:-03
DTSTART:20220101T000000
END:STANDARD
END:VTIMEZONE
BEGIN:VEVENT
DTSTART;TZID=America/Argentina/Cordoba:20230331T000000
DTEND;TZID=America/Argentina/Cordoba:20230331T000000
DTSTAMP:20260425T215752
CREATED:20230213T141054Z
LAST-MODIFIED:20230213T141527Z
UID:14072-1680220800-1680220800@investigacion.unvm.edu.ar
SUMMARY:Convocatoria a Proyectos de Redes Federales de Alto Impacto
DESCRIPTION:Desde el Ministerio de Ciencia\, Tecnología e Innovación de la Nación se busca promover la conformación de redes de investigación de la más alta calificación abocadas a temas identificados como prioritarios para el desarrollo nacional.\n\n\n\n\nEl monto ha financiar (por proyecto) será el equivalente en pesos a USD 250.000 por año a lo largo de cuatro años.\nConvocatoria abierta 𝐝𝐞𝐬𝐝𝐞 𝐞𝐥 𝟎𝟏 𝐝𝐞 𝐅𝐞𝐛𝐫𝐞𝐫𝐨 𝐚𝐥 𝟑𝟏 𝐝𝐞 𝐌𝐚𝐫𝐳𝐨 𝐝𝐞 𝟐𝟎𝟐𝟑\n\n\n\nPara más información ingresar a: https://bit.ly/3wQN0mn. Por consultas escribir al siguiente correo electrónico: altoimpacto@mincyt.gob.ar
URL:https://investigacion.unvm.edu.ar/evento/convocatoria-a-proyectos-de-redes-federales-de-alto-impacto
LOCATION:Campus UNVM
CATEGORIES:Convocatoria 2023,Mincyt Nación,Proyectos,Redes Federales de Alto Impacto
ATTACH;FMTTYPE=image/jpeg:https://investigacion.unvm.edu.ar/wp-content/uploads/2023/02/Feed-Difusion-9.jpg
END:VEVENT
END:VCALENDAR