BEGIN:VCALENDAR
VERSION:2.0
PRODID:-//Instituto de investigación - ECPv6.15.20//NONSGML v1.0//EN
CALSCALE:GREGORIAN
METHOD:PUBLISH
X-WR-CALNAME:Instituto de investigación
X-ORIGINAL-URL:https://investigacion.unvm.edu.ar
X-WR-CALDESC:Eventos para Instituto de investigación
REFRESH-INTERVAL;VALUE=DURATION:PT1H
X-Robots-Tag:noindex
X-PUBLISHED-TTL:PT1H
BEGIN:VTIMEZONE
TZID:America/Argentina/Cordoba
BEGIN:STANDARD
TZOFFSETFROM:-0300
TZOFFSETTO:-0300
TZNAME:-03
DTSTART:20220101T000000
END:STANDARD
END:VTIMEZONE
BEGIN:VEVENT
DTSTART;TZID=America/Argentina/Cordoba:20230411T000000
DTEND;TZID=America/Argentina/Cordoba:20230411T000000
DTSTAMP:20260425T214059
CREATED:20230320T191855Z
LAST-MODIFIED:20230320T191958Z
UID:14171-1681171200-1681171200@investigacion.unvm.edu.ar
SUMMARY:Proyectos de Investigación JOVENES EN CIENCIA
DESCRIPTION:El Instituto de investigación de la UNVM en conjunto con el Ministerio de Ciencia de Córdoba convoca docentes-investigadoras/es en formación para la presentación de Proyectos. \nLa prórroga para las respectivas postulaciones será hasta el día 𝗠𝗮𝗿𝘁𝗲𝘀 𝟭𝟭 𝗱𝗲 𝗮𝗯𝗿𝗶𝗹 𝗱𝗲 𝟮𝟬𝟮𝟯\, 𝗮 𝗹𝗮𝘀 𝟭𝟮𝗵𝗼𝗿𝗮𝘀
URL:https://investigacion.unvm.edu.ar/evento/prorroga-proyectos-de-investigacion-jovenes-en-ciencia
LOCATION:Campus UNVM
CATEGORIES:Instituto de Investigación,Jóvenes en Ciencia
ATTACH;FMTTYPE=image/png:https://investigacion.unvm.edu.ar/wp-content/uploads/2023/03/Feed-Invitacion-Historia-de-Instagram-Post-de-Instagram-Cuadrado-1-1.png
END:VEVENT
END:VCALENDAR