BEGIN:VCALENDAR
VERSION:2.0
PRODID:-//Instituto de investigación - ECPv6.15.20//NONSGML v1.0//EN
CALSCALE:GREGORIAN
METHOD:PUBLISH
X-WR-CALNAME:Instituto de investigación
X-ORIGINAL-URL:https://investigacion.unvm.edu.ar
X-WR-CALDESC:Eventos para Instituto de investigación
REFRESH-INTERVAL;VALUE=DURATION:PT1H
X-Robots-Tag:noindex
X-PUBLISHED-TTL:PT1H
BEGIN:VTIMEZONE
TZID:America/Argentina/Cordoba
BEGIN:STANDARD
TZOFFSETFROM:-0300
TZOFFSETTO:-0300
TZNAME:-03
DTSTART:20210101T000000
END:STANDARD
END:VTIMEZONE
BEGIN:VEVENT
DTSTART;TZID=America/Argentina/Cordoba:20221124T000000
DTEND;TZID=America/Argentina/Cordoba:20230324T000000
DTSTAMP:20260426T013533
CREATED:20221020T162541Z
LAST-MODIFIED:20221024T134909Z
UID:13867-1669248000-1679616000@investigacion.unvm.edu.ar
SUMMARY:Convocatoria EVC- CIN 2022
DESCRIPTION:El Instituto de Investigación comunica la apertura de la Convocatoria 2022 del Programa de Becas de Estímulo a las Vocaciones Científicas (EVC) del Consejo Interuniversitario Nacional (CIN) desde el 1 de noviembre al 3 de diciembre\nLas Becas EVC del CIN se enmarcan en el Plan de Fortalecimiento de la Investigación Científica\, el Desarrollo Tecnológico y la Innovación de las Universidades Nacionales. Están destinadas a estudiantes universitarios de grado que deseen iniciar su formación en investigación en el marco de proyectos de investigación acreditados en disciplinas científicas\, humanísticas\, tecnológicas o artísticas. \nDichas becas son otorgadas por un período de doce (12) meses\, concebido como un apoyo para dedicar horas semanales a las tareas y actividades de investigación\, que se complementarán necesariamente con el avance de los estudios de la carrera de grado que se realiza. \nLa inscripción estará abierta desde el 1 de noviembre al 3 de diciembre. Los aspirantes deberán cumplimentar los requisitos definidos en el Reglamento EVC 2021 y presentar la información solicitada en los formularios correspondientes\, junto con su plan de trabajo\, la documentación probatoria y de los avales de la autoridad competente. \n\n\n\n\nToda la información necesaria en : http://evc.cin.edu.ar/ (micrositio del CIN). Por consultas comunicarse al Instituto de Investigación: investigacion@rec.unvm.edu.ar / (0353) 4648243 Interno 2014.
URL:https://investigacion.unvm.edu.ar/evento/nueva-convocatoria-evc-cin-2022
LOCATION:Campus UNVM
CATEGORIES:Becas EVC-CIN,Instituto de Investigación
ATTACH;FMTTYPE=image/png:https://investigacion.unvm.edu.ar/wp-content/uploads/2022/10/Post-ConCIENCIAr-1.png
END:VEVENT
END:VCALENDAR