BEGIN:VCALENDAR
VERSION:2.0
PRODID:-//Instituto de investigación - ECPv6.15.20//NONSGML v1.0//EN
CALSCALE:GREGORIAN
METHOD:PUBLISH
X-WR-CALNAME:Instituto de investigación
X-ORIGINAL-URL:https://investigacion.unvm.edu.ar
X-WR-CALDESC:Eventos para Instituto de investigación
REFRESH-INTERVAL;VALUE=DURATION:PT1H
X-Robots-Tag:noindex
X-PUBLISHED-TTL:PT1H
BEGIN:VTIMEZONE
TZID:America/Argentina/Cordoba
BEGIN:STANDARD
TZOFFSETFROM:-0300
TZOFFSETTO:-0300
TZNAME:-03
DTSTART:20220101T000000
END:STANDARD
END:VTIMEZONE
BEGIN:VEVENT
DTSTART;TZID=America/Argentina/Cordoba:20230928T000000
DTEND;TZID=America/Argentina/Cordoba:20230928T080000
DTSTAMP:20260426T004146
CREATED:20230612T162533Z
LAST-MODIFIED:20230612T162652Z
UID:14338-1695859200-1695888000@investigacion.unvm.edu.ar
SUMMARY:Financiamiento para proyectos conjuntos entre Argentina y España
DESCRIPTION:Se trata de una convocatoria promovida por el Ministerio de Ciencia\, Tecnología e Innovación de la Nación junto con el Centro para el Desarrollo Tecnológico Industrial (CDTI) de España. En el caso de Argentina\, los proyectos serán financiados por el instrumento ANR Internacional de FONTAR.\n\nLos proyectos deben enfocarse en soluciones comercializables o con un gran potencial de mercado en ambos países. Se financiarán aquellas propuestas colaborativas de desarrollo e innovación tecnológica en áreas estratégicas referidas a:\n\nProducción más limpia\nTransición energética\nAlimentos de mayor calidad y valor agregado\nRecursos para la industria 4.0\n\n\n\n\n\nLos socios deben incluir\, al menos\, dos (2) empresas independientes\, una de Argentina y otra de España. Se acepta la participación de institutos de investigación/universidades y otras organizaciones\, en calidad de subcontratistas o participantes autofinanciados en función de las regulaciones de financiación de cada país. \nEl producto\, proceso o servicio debe ser innovador y debe existir un riesgo tecnológico involucrado; la cooperación entre las partes deberá ser equilibrada\, no superando en ningún caso la relación de más de un 70/30 del total del proyecto conjunto. \nPresentación: el proyecto deberá ser presentado en simultáneo por cada una de las empresas ante sus organismos de financiación respectivos. En el caso de la empresa argentina lo deberá hacer a través de la plataforma TAD (Agencia). \n\nFinanciamiento: ANR Internacional hasta $ 30.000.000 para la empresa argentina.\nPlazo de presentación: hasta el 28 de septiembre 2023.\n\n\nPara más información consultar en: https://mincyt.cba.gov.ar/cooperacion-empresarial-para…/
URL:https://investigacion.unvm.edu.ar/evento/financiamiento-para-proyectos-conjuntos-entre-argentina-y-espana
LOCATION:Campus UNVM
CATEGORIES:Cooperación Univevrsidad Empresa,Financiamiento FONTAR ANR Internacional,Mincyt Nación,Proyectos de Investigación
ATTACH;FMTTYPE=image/png:https://investigacion.unvm.edu.ar/wp-content/uploads/2023/06/Financiamiento-espana-argentina.png
END:VEVENT
END:VCALENDAR