BEGIN:VCALENDAR
VERSION:2.0
PRODID:-//Instituto de investigación - ECPv6.15.20//NONSGML v1.0//EN
CALSCALE:GREGORIAN
METHOD:PUBLISH
X-ORIGINAL-URL:https://investigacion.unvm.edu.ar
X-WR-CALDESC:Eventos para Instituto de investigación
REFRESH-INTERVAL;VALUE=DURATION:PT1H
X-Robots-Tag:noindex
X-PUBLISHED-TTL:PT1H
BEGIN:VTIMEZONE
TZID:America/Argentina/Cordoba
BEGIN:STANDARD
TZOFFSETFROM:-0300
TZOFFSETTO:-0300
TZNAME:-03
DTSTART:20240101T000000
END:STANDARD
END:VTIMEZONE
BEGIN:VEVENT
DTSTART;TZID=America/Argentina/Cordoba:20250805T190000
DTEND;TZID=America/Argentina/Cordoba:20250805T200000
DTSTAMP:20260424T025751
CREATED:20250801T141738Z
LAST-MODIFIED:20250801T150949Z
UID:15326-1754420400-1754424000@investigacion.unvm.edu.ar
SUMMARY:Charla Informativa - Convocatoria a Ideas Proyectos PEIDI UNVM
DESCRIPTION:Durante el encuentro se abordarán los aspectos principales de la Convocatoria 2025 para la presentación a «IDEAS Proyectos de Investigación\, Desarrollo e Innovación (I-PEIDI)».\n\n\n\n Martes 5 de Agosto de 2025.\n 19:00 horas\n Modalidad Virtual\nLink: https://meet.google.com/bbh-qjhw-tyo
URL:https://investigacion.unvm.edu.ar/evento/%f0%9d%97%96%f0%9d%97%b5%f0%9d%97%ae%f0%9d%97%bf%f0%9d%97%b9%f0%9d%97%ae-%f0%9d%97%9c%f0%9d%97%bb%f0%9d%97%b3%f0%9d%97%bc%f0%9d%97%bf%f0%9d%97%ba%f0%9d%97%ae%f0%9d%98%81%f0%9d%97%b6%f0%9d%98%83
LOCATION:Campus UNVM
CATEGORIES:Charla Informativa,Convocatoria I-PEDI 2025,UNVM
ATTACH;FMTTYPE=image/jpeg:https://investigacion.unvm.edu.ar/wp-content/uploads/2025/08/flyer-I-PEIDI-.jpeg
END:VEVENT
BEGIN:VEVENT
DTSTART;TZID=America/Argentina/Cordoba:20250826T140000
DTEND;TZID=America/Argentina/Cordoba:20250826T140000
DTSTAMP:20260424T025751
CREATED:20250820T141514Z
LAST-MODIFIED:20250820T141514Z
UID:15432-1756216800-1756216800@investigacion.unvm.edu.ar
SUMMARY:Charla Informativa: Convocatoria a Proyectos de Investigación 2026/2027
DESCRIPTION:Desde el Instituto de Investigación realizaremos una charla informativa sobre las bases y condiciones de esta nueva Convocatoria a Proyectos 2026/2027.  \nFecha: Martes 26 de agosto\, ⏰14hs \nEnlace Goolge Meet: https://meet.google.com/hde-adno-mro \nConsultar Bases de la Convocatoria 2026-2027
URL:https://investigacion.unvm.edu.ar/evento/charla-informativa-convocatoria-a-proyectos-de-investigacion-2026-2027
LOCATION:Campus UNVM
CATEGORIES:Charla Informativa,Convocatoria a Proyectos 2026/2027,Investigación UNVM
ATTACH;FMTTYPE=image/jpeg:https://investigacion.unvm.edu.ar/wp-content/uploads/2025/08/web-con-charla-informativa.jpg
END:VEVENT
END:VCALENDAR