BEGIN:VCALENDAR
VERSION:2.0
PRODID:-//Instituto de investigación - ECPv6.15.20//NONSGML v1.0//EN
CALSCALE:GREGORIAN
METHOD:PUBLISH
X-WR-CALNAME:Instituto de investigación
X-ORIGINAL-URL:https://investigacion.unvm.edu.ar
X-WR-CALDESC:Eventos para Instituto de investigación
REFRESH-INTERVAL;VALUE=DURATION:PT1H
X-Robots-Tag:noindex
X-PUBLISHED-TTL:PT1H
BEGIN:VTIMEZONE
TZID:America/Argentina/Cordoba
BEGIN:STANDARD
TZOFFSETFROM:-0300
TZOFFSETTO:-0300
TZNAME:-03
DTSTART:20220101T000000
END:STANDARD
END:VTIMEZONE
BEGIN:VEVENT
DTSTART;TZID=America/Argentina/Cordoba:20230922T120000
DTEND;TZID=America/Argentina/Cordoba:20230922T120000
DTSTAMP:20260426T012105
CREATED:20230815T140411Z
LAST-MODIFIED:20230815T140411Z
UID:14449-1695384000-1695384000@investigacion.unvm.edu.ar
SUMMARY:Becas de Posgrado para Docentes y Nodocentes UNVM
DESCRIPTION:El Instituto de Investigación comunica la apertura de la Convocatoria a Becas de Posgrado para los claustros DOCENTES y NODOCENTES de la Universidad Nacional de Villa María. \nLa convocatoria entra en vigencia a partir del 14 de agosto y permanecerá abierta hasta el 22 de septiembre de 2023\, a las 12 horas. \nImporte anual de las Becas: \n\nBecas para Doctorados: hasta $ 120.000\nBecas para Maestrías: hasta $ 80.000\nBecas para Especialización: hasta $ 50.000\n\nLa duración de las Becas será de un año calendario pudiendo ser renovadas por períodos análogos o menores\, quedando supeditada dicha renovación al rendimiento satisfactorio del becario/a respecto de las formalidades de la carrera o programa elegido\, plan de trabajo inicialmente propuesto y aprobado\, cumplimiento de plazos estipulados y demás exigencias conforme los compromisos asumidos. \nPara postular\, los interesados deberán estar formalmente admitidos en la carrera de posgrado por la cual solicitan la beca\, conocer las Bases de la Convocatoria 2023 para Becas de Posgrado (Disposición 03-2023) y presentar el respectivo Formulario de Solicitud. \nBases\, Reglamentos y Formularios: \nBases Convocatoria Becas de Posgrado 2023 \nBecas de Posgrado 2023 – Formulario de solicitud para Docentes \nBecas de Posgrado 2023 – Formulario de solicitud para Nodocentes \nRES.CS2022.152 – Reglamento Becas de Posgrado Docentes \nRES.CS2019. 248 – Reglamento Becas Nodocentes
URL:https://investigacion.unvm.edu.ar/evento/becas-de-posgrado-para-docentes-y-nodocentes-unvm
LOCATION:Campus UNVM
CATEGORIES:Becas posgrado,Docentes,Instituto de Investigación,Investigación,Nodocentes
ATTACH;FMTTYPE=image/png:https://investigacion.unvm.edu.ar/wp-content/uploads/2023/08/BECAS-POSGRADO-PNG.png
END:VEVENT
END:VCALENDAR